BEGIN:VCALENDAR
VERSION:2.0
PRODID:-//Mount Pleasant Presbyterian Church - ECPv6.15.20//NONSGML v1.0//EN
CALSCALE:GREGORIAN
METHOD:PUBLISH
X-ORIGINAL-URL:https://mppc.net
X-WR-CALDESC:Events for Mount Pleasant Presbyterian Church
REFRESH-INTERVAL;VALUE=DURATION:PT1H
X-Robots-Tag:noindex
X-PUBLISHED-TTL:PT1H
BEGIN:VTIMEZONE
TZID:America/Chicago
BEGIN:DAYLIGHT
TZOFFSETFROM:-0600
TZOFFSETTO:-0500
TZNAME:CDT
DTSTART:20230312T080000
END:DAYLIGHT
BEGIN:STANDARD
TZOFFSETFROM:-0500
TZOFFSETTO:-0600
TZNAME:CST
DTSTART:20231105T070000
END:STANDARD
BEGIN:DAYLIGHT
TZOFFSETFROM:-0600
TZOFFSETTO:-0500
TZNAME:CDT
DTSTART:20240310T080000
END:DAYLIGHT
BEGIN:STANDARD
TZOFFSETFROM:-0500
TZOFFSETTO:-0600
TZNAME:CST
DTSTART:20241103T070000
END:STANDARD
BEGIN:DAYLIGHT
TZOFFSETFROM:-0600
TZOFFSETTO:-0500
TZNAME:CDT
DTSTART:20250309T080000
END:DAYLIGHT
BEGIN:STANDARD
TZOFFSETFROM:-0500
TZOFFSETTO:-0600
TZNAME:CST
DTSTART:20251102T070000
END:STANDARD
END:VTIMEZONE
BEGIN:VEVENT
DTSTART;TZID=America/Chicago:20240908T100000
DTEND;TZID=America/Chicago:20240908T120000
DTSTAMP:20260420T092553
CREATED:20240731T161256Z
LAST-MODIFIED:20240812T191652Z
UID:10002121-1725789600-1725796800@mppc.net
SUMMARY:Rally Day 2024
DESCRIPTION:Save the date! Come and see\, God is doing a new thing! \nRally Day will be Sunday\, Sept. 8 with one worship service at 10 a.m. followed by a ministry fair and potluck brunch. The brunch will be a special celebration welcoming Rev. Dr. Nicole Partin Abdnour and her family to MPPC! More details to come. Please use this link to sign up to bring something for brunch. If the registration is full or if you are unsure how to signup\, then just bring a brunch item of your choice.
URL:https://mppc.net/event/rally-day-2024/
LOCATION:Mount Pleasant Presbyterian Church\, 302 Hibben St\, Mount Pleasant\, SC\, 29464\, United States
CATEGORIES:Adult Ministries,Children's Ministries,Fellowship,In-Person Event,Men's Ministries,Music Ministries,Women's Ministry,Young Adults,Youth Ministries
ORGANIZER;CN="Ellen Creed Branham":MAILTO:ecreedbranham@mppc.net
END:VEVENT
BEGIN:VEVENT
DTSTART;TZID=America/Chicago:20240912T190000
DTEND;TZID=America/Chicago:20240912T203000
DTSTAMP:20260420T092553
CREATED:20240807T165159Z
LAST-MODIFIED:20240807T165159Z
UID:10002122-1726167600-1726173000@mppc.net
SUMMARY:Village Concert Series: Sords & Overly
DESCRIPTION:Sords & Overly have toured together extensively\, culminating in an appearance at the Ravinia Festival (and a profile on Chicago’s WFMT)\, and bring their eclectic sonata/show program to Mount Pleasant Presbyterian Church. The evening’s repertoire includes works by Brahms\, Mozart\, Sarasate\, and Franck\, including anecdotes and humor from the stage. Sords has performed as soloist with nearly 300 orchestras on four continents; Overly has appeared with The Cleveland Orchestra and in Vienna; together\, they bring their unique chemistry to the Concert Series. \nJoin us for this eclectic program on Thursday\, Sept. 12 at 7 p.m. in the MPPC Sanctuary.
URL:https://mppc.net/event/village-concert-series-sords-overly/
LOCATION:Mount Pleasant Presbyterian Church\, 302 Hibben St\, Mount Pleasant\, SC\, 29464\, United States
CATEGORIES:In-Person Event,Music Ministries
ORGANIZER;CN="Tony Sane":MAILTO:tsane@mppc.net
END:VEVENT
BEGIN:VEVENT
DTSTART;TZID=America/Chicago:20240913T173000
DTEND;TZID=America/Chicago:20240913T200000
DTSTAMP:20260420T092553
CREATED:20240718T153208Z
LAST-MODIFIED:20240718T153208Z
UID:10002119-1726248600-1726257600@mppc.net
SUMMARY:Pacesetters: Charleston Museum
DESCRIPTION:The Pacesetters will resume September 13\, 2024 for the start of the 2024/2025 program year! The first event will include appetizers/gathering at 5:30 p.m. followed by a catered meal at 6 p.m. A presentation by the Charleston Museum will begin at 7 p.m. More details regarding the presentation and the dinner menu will be available closer to the event! The catered meal will cost $20 this year at the door. Please RSVP to at susanmell@mac.com or text 843-697-2111 by the end of the day on September 9th.
URL:https://mppc.net/event/pacesetters-charleston-museum/
LOCATION:Mount Pleasant Presbyterian Church\, 302 Hibben St\, Mount Pleasant\, SC\, 29464\, United States
CATEGORIES:Adult Ministries,Fellowship,In-Person Event,Pacesetters
ORGANIZER;CN="Andy Kay":MAILTO:kay.william@att.net
END:VEVENT
BEGIN:VEVENT
DTSTART;TZID=America/Chicago:20240916T130000
DTEND;TZID=America/Chicago:20240916T180000
DTSTAMP:20260420T092553
CREATED:20240812T190020Z
LAST-MODIFIED:20240812T190034Z
UID:10002021-1726491600-1726509600@mppc.net
SUMMARY:Blood Drive
DESCRIPTION:Our next Red Cross Blood Drive is Monday\, September 16\, 2024 from 1-6 pm in the Fellowship Hall. There is still a blood shortage. The need for blood is constant\, but only 3% of the U.S. population donates. Whether you have ever donated or not\, please prayerfully consider signing up and join us Monday\, September 16. \nWhether you have ever donated or not\, please prayerfully consider signing up and joining us on September 16: \n\nDonation is by appointment and Red Cross will be trying hard to stick to the schedule. However\, walk-ins will be accepted and worked in.\nIf possible\, please complete RapidPass before you come to the church. This will streamline the process and save you some time.\n To schedule an appointment (in order of preference):\n\nOption 1: download the Red Cross Blood Donor App to your smartphone and from there you can schedule an appointment time. Later\, on the day of the drive\, complete RapidPass. You will need to create a userid and password if this is your first time.\nOption 2: Visit www.redcrossblood.org top right hand corner enter zip code 29464 or sponsor code MPPC to register. On the day of the blood drive\, complete RapidPass found at www.redcrossblood.org/rapidpass\nOption 3: Contact Pat DeLizza at 704-792-5352 for help with registering.
URL:https://mppc.net/event/blood-drive-12-2-2-2-3/
LOCATION:Mount Pleasant Presbyterian Church\, 302 Hibben St\, Mount Pleasant\, SC\, 29464\, United States
CATEGORIES:In-Person Event,MPPC Missions,Volunteer Opportunity
ORGANIZER;CN="Rev. Bart Edwards":MAILTO:bedwards@mppc.net
END:VEVENT
BEGIN:VEVENT
DTSTART;TZID=America/Chicago:20240918T173000
DTEND;TZID=America/Chicago:20240918T193000
DTSTAMP:20260420T092553
CREATED:20240812T190911Z
LAST-MODIFIED:20240816T194312Z
UID:10002125-1726680600-1726687800@mppc.net
SUMMARY:Rise Against Hunger
DESCRIPTION:Rise Against Hunger’s mission is growing a global movement to end hunger by empowering communities\, nourishing lives and responding to emergencies. We will host a Rise Against Hunger Meal Packing Event on Wednesday\, Sept. 18 in the Fellowship Hall from 5:30-7:30 p.m. At our event\, we will pack 14\,256 meals with self stable fortified dehydrated meals! Dinner will be provided. Please sign up for this event here! \nContact Caroline Feller with any questions at carolinefeller@homesc.com.
URL:https://mppc.net/event/rise-against-hunger/
LOCATION:Mount Pleasant Presbyterian Church\, 302 Hibben St\, Mount Pleasant\, SC\, 29464\, United States
CATEGORIES:Adult Ministries,Children's Ministries,In-Person Event,MPPC Missions,Volunteer Opportunity,Young Adults,Youth Ministries
ORGANIZER;CN="Rev. Bart Edwards":MAILTO:bedwards@mppc.net
END:VEVENT
BEGIN:VEVENT
DTSTART;TZID=America/Chicago:20240923T120000
DTEND;TZID=America/Chicago:20240923T133000
DTSTAMP:20260420T092553
CREATED:20240815T173619Z
LAST-MODIFIED:20240917T152009Z
UID:10002126-1727092800-1727098200@mppc.net
SUMMARY:Third Act: Rob Fowler
DESCRIPTION:Monday\, Sep. 23 at Noon in the Fellowship Hall\nThere is a time for everything and a season for every activity under the heavens.\nAll are welcome to join Third Act’s kickoff Fall gathering with Rob Fowler! Rob is the Lowcountry’s Chief Meteorologist at News 2 since September 1987. Come\, enjoy food\, fellowship\, and stories. We’ll listen and learn more about God’s amazing world. \nLunch will be potluck style. The church will provide chicken for the event\, but please bring a salad\, side dish or dessert. Please RSVP here.
URL:https://mppc.net/event/third-act-rob-fowler/
LOCATION:Mount Pleasant Presbyterian Church\, 302 Hibben St\, Mount Pleasant\, SC\, 29464\, United States
CATEGORIES:Adult Ministries,Fellowship,In-Person Event,Pacesetters
ATTACH;FMTTYPE=image/webp:https://mppc.net/wp-content/uploads/2023/02/Third-Act.webp
ORGANIZER;CN="Ellen Creed Branham":MAILTO:ecreedbranham@mppc.net
END:VEVENT
BEGIN:VEVENT
DTSTART;TZID=America/Chicago:20240924T100000
DTEND;TZID=America/Chicago:20240924T113000
DTSTAMP:20260420T092553
CREATED:20240903T164540Z
LAST-MODIFIED:20240903T164540Z
UID:10002127-1727172000-1727177400@mppc.net
SUMMARY:CAJM House Meeting
DESCRIPTION:An Invitation to Participate in a MPPC CAJM Listening Session (aka House Meeting) \nMicah 6:8 tells us “And what does the Lord require of you\, but to do justice\, love kindness\, and walk humbly with your God.” \nHave you wondered how you can DO JUSTICE? Please come participate in one of our three MPPC CAJM House Meetings (Listening Sessions) in September/October to learn how you can do justice. The MPPC Network Leaders invite you to come learn about the Charleston Area Justice Ministry (CAJM)\, build relationships with other church members\, and share your ideas about which community problems CAJM should focus on this year. \nThree Meetings are Scheduled: \n\nTuesday\, Sept. 24\, 10:00 -11:30 a.m. – MPPC’s Parlor\nThursday\, Sept. 26\, 6:30-8:00 p.m. – Tom Ashbaugh’s House (Contact Tom for address)\nTuesday\, Oct. 3\, 10:00 – 11:30 a.m. – MPPC’s Parlor\n\nIf you would like more information or have questions\, please contact MPPC’s CAJM Team Leaders: \n\nAndy White-Boggan (843-270-7874; whiteagwb@gmail.com)\nColeman Legerton (843-209-8376; colelege@gmail.com)\nTom Ashbaugh (843-991-9964; tom.ashbaugh@gmail.com)\n\nCome see how you can make a difference in our community!
URL:https://mppc.net/event/cajm-house-meeting/2024-09-24/
LOCATION:SC
CATEGORIES:Adult Ministries,Bridge Builders,In-Person Event,MPPC Missions
ORGANIZER;CN="Rev. Bart Edwards":MAILTO:bedwards@mppc.net
END:VEVENT
BEGIN:VEVENT
DTSTART;TZID=America/Chicago:20240926T183000
DTEND;TZID=America/Chicago:20240926T200000
DTSTAMP:20260420T092553
CREATED:20240903T164540Z
LAST-MODIFIED:20240903T164540Z
UID:10002128-1727375400-1727380800@mppc.net
SUMMARY:CAJM House Meeting
DESCRIPTION:An Invitation to Participate in a MPPC CAJM Listening Session (aka House Meeting) \nMicah 6:8 tells us “And what does the Lord require of you\, but to do justice\, love kindness\, and walk humbly with your God.” \nHave you wondered how you can DO JUSTICE? Please come participate in one of our three MPPC CAJM House Meetings (Listening Sessions) in September/October to learn how you can do justice. The MPPC Network Leaders invite you to come learn about the Charleston Area Justice Ministry (CAJM)\, build relationships with other church members\, and share your ideas about which community problems CAJM should focus on this year. \nThree Meetings are Scheduled: \n\nTuesday\, Sept. 24\, 10:00 -11:30 a.m. – MPPC’s Parlor\nThursday\, Sept. 26\, 6:30-8:00 p.m. – Tom Ashbaugh’s House (Contact Tom for address)\nTuesday\, Oct. 3\, 10:00 – 11:30 a.m. – MPPC’s Parlor\n\nIf you would like more information or have questions\, please contact MPPC’s CAJM Team Leaders: \n\nAndy White-Boggan (843-270-7874; whiteagwb@gmail.com)\nColeman Legerton (843-209-8376; colelege@gmail.com)\nTom Ashbaugh (843-991-9964; tom.ashbaugh@gmail.com)\n\nCome see how you can make a difference in our community!
URL:https://mppc.net/event/cajm-house-meeting/2024-09-26/
LOCATION:SC
CATEGORIES:Adult Ministries,Bridge Builders,In-Person Event,MPPC Missions
ORGANIZER;CN="Rev. Bart Edwards":MAILTO:bedwards@mppc.net
END:VEVENT
BEGIN:VEVENT
DTSTART;TZID=America/Chicago:20240929T160000
DTEND;TZID=America/Chicago:20240929T183000
DTSTAMP:20260420T092553
CREATED:20240905T142332Z
LAST-MODIFIED:20240905T142332Z
UID:10002130-1727625600-1727634600@mppc.net
SUMMARY:Installation Service of Rev. Dr. Nicole Partin Abdnour
DESCRIPTION:All are invited to the Installation of Rev. Dr. Nicole Partin Abdnour as Senior Pastor & Head of Staff of Mount Pleasant Presbyterian Church on Sunday\, September 29\, 2024 at 4 p.m. in the Sanctuary. A reception will follow the service.
URL:https://mppc.net/event/installation-service-of-rev-dr-nicole-partin-abdnour/
LOCATION:Mount Pleasant Presbyterian Church\, 302 Hibben St\, Mount Pleasant\, SC\, 29464\, United States
CATEGORIES:Adult Ministries,Children's Ministries,In-Person Event,MPPC Missions,Women's Ministry,Young Adults,Youth Ministries
ATTACH;FMTTYPE=image/webp:https://mppc.net/wp-content/uploads/2024/09/Installation-Service.webp
END:VEVENT
END:VCALENDAR