BEGIN:VCALENDAR
VERSION:2.0
PRODID:-//Mount Pleasant Presbyterian Church - ECPv6.15.20//NONSGML v1.0//EN
CALSCALE:GREGORIAN
METHOD:PUBLISH
X-ORIGINAL-URL:https://mppc.net
X-WR-CALDESC:Events for Mount Pleasant Presbyterian Church
REFRESH-INTERVAL;VALUE=DURATION:PT1H
X-Robots-Tag:noindex
X-PUBLISHED-TTL:PT1H
BEGIN:VTIMEZONE
TZID:America/Chicago
BEGIN:DAYLIGHT
TZOFFSETFROM:-0600
TZOFFSETTO:-0500
TZNAME:CDT
DTSTART:20240310T080000
END:DAYLIGHT
BEGIN:STANDARD
TZOFFSETFROM:-0500
TZOFFSETTO:-0600
TZNAME:CST
DTSTART:20241103T070000
END:STANDARD
BEGIN:DAYLIGHT
TZOFFSETFROM:-0600
TZOFFSETTO:-0500
TZNAME:CDT
DTSTART:20250309T080000
END:DAYLIGHT
BEGIN:STANDARD
TZOFFSETFROM:-0500
TZOFFSETTO:-0600
TZNAME:CST
DTSTART:20251102T070000
END:STANDARD
BEGIN:DAYLIGHT
TZOFFSETFROM:-0600
TZOFFSETTO:-0500
TZNAME:CDT
DTSTART:20260308T080000
END:DAYLIGHT
BEGIN:STANDARD
TZOFFSETFROM:-0500
TZOFFSETTO:-0600
TZNAME:CST
DTSTART:20261101T070000
END:STANDARD
END:VTIMEZONE
BEGIN:VEVENT
DTSTART;TZID=America/Chicago:20251013T133000
DTEND;TZID=America/Chicago:20251013T180000
DTSTAMP:20260423T065055
CREATED:20250326T175751Z
LAST-MODIFIED:20250825T190204Z
UID:10002306-1760362200-1760378400@mppc.net
SUMMARY:Red Cross Blood Drive
DESCRIPTION:Our last blood drive for 2025 is Monday\, October 13 from 1:30 to 6 pm in the Fellowship Hall. Let’s fill our time slots and collect at least 28 units! \nWhether you have ever donated or not\, please prayerfully consider signing up and join us Monday\, October 13\, 2025: \nDonation is by appointment and Red Cross will be trying hard to stick to the schedule. However\, walk-ins will be accepted and worked in. If possible\, please complete RapidPass before you come to the church. This will streamline the process and save you some time. \nTo schedule an appointment (in order of preference): \n\nOption 1: Download the Red Cross Blood Donor App to your smartphone and from there you can schedule an appointment time. Later\, on the day of the drive\, complete RapidPass. You will need to create a userid and password if this is your first time.\nOption 2: Visit www.redcrossblood.org top right hand corner enter zip code 29464 or sponsor code MPPC to register. On the day of the blood drive\, complete RapidPass found at www.redcrossblood.org/rapidpass\nOption 3: Contact Pat DeLizza at 704-792-5352 for help with registering.
URL:https://mppc.net/event/red-cross-blood-drive-4/
LOCATION:Mount Pleasant Presbyterian Church\, 302 Hibben St\, Mount Pleasant\, SC\, 29464\, United States
CATEGORIES:Churchwide,In-Person Event,MPPC Missions,Volunteer Opportunity
ATTACH;FMTTYPE=image/png:https://mppc.net/wp-content/uploads/2025/03/Screenshot-2025-08-25-at-3.01.39-PM.png
ORGANIZER;CN="Rev. Bart Edwards":MAILTO:bedwards@mppc.net
END:VEVENT
END:VCALENDAR